BEGIN:VCALENDAR
METHOD:REQUEST
PRODID:-//events.orgNONSGML ical.net 4.0//EN
VERSION:2.0
BEGIN:VEVENT
DTEND;VALUE=DATE:20260911
DTSTAMP:20260421T103625Z
DTSTART;VALUE=DATE:20260911
LOCATION:Majestic Theatre-MI\, Detroit
ORGANIZER;CN=:mailto:events@events.org
SEQUENCE:0
SUMMARY:Oskar med K
UID:1a474d88-c800-43bb-a871-08f784a70223
URL:https://events.org/e/Oskar-med-K/HRFPXLLJ
BEGIN:VALARM
ACTION:DISPLAY
SUMMARY:Reminder
TRIGGER:-P1D
END:VALARM
END:VEVENT
END:VCALENDAR
