BEGIN:VCALENDAR
METHOD:REQUEST
PRODID:-//events.orgNONSGML ical.net 4.0//EN
VERSION:2.0
BEGIN:VEVENT
DTEND;VALUE=DATE:20260608
DTSTAMP:20260421T095414Z
DTSTART;VALUE=DATE:20260608
LOCATION:Oracle Park\, San Francisco
ORGANIZER;CN=:mailto:events@events.org
SEQUENCE:0
SUMMARY:San Francisco Giants vs. Washington Nationals
UID:a6095f65-5c6e-4e8b-bc19-b0678e5e403e
URL:https://events.org/e/San-Francisco-Giants-vs-Washington-Nationals/QPNG
 GD66
BEGIN:VALARM
ACTION:DISPLAY
SUMMARY:Reminder
TRIGGER:-P1D
END:VALARM
END:VEVENT
END:VCALENDAR
