BEGIN:VCALENDAR
METHOD:REQUEST
PRODID:-//events.orgNONSGML ical.net 4.0//EN
VERSION:2.0
BEGIN:VEVENT
DTEND;VALUE=DATE:20260513
DTSTAMP:20260421T095838Z
DTSTART;VALUE=DATE:20260513
LOCATION:Cafe Du Nord\, San Francisco
ORGANIZER;CN=:mailto:events@events.org
SEQUENCE:0
SUMMARY:Ike Dweck: The “Safe With Me” Tour with Zachy
UID:dc693566-4b3a-478a-bb22-8632b0c6c146
URL:https://events.org/e/Ike-Dweck-The-Safe-With-Me-Tour-with-Zachy/NB74B2
 UO
BEGIN:VALARM
ACTION:DISPLAY
SUMMARY:Reminder
TRIGGER:-P1D
END:VALARM
END:VEVENT
END:VCALENDAR
