BEGIN:VCALENDAR
METHOD:REQUEST
PRODID:-//events.orgNONSGML ical.net 4.0//EN
VERSION:2.0
BEGIN:VEVENT
DTEND;VALUE=DATE:20260523
DTSTAMP:20260425T185726Z
DTSTART;VALUE=DATE:20260523
LOCATION:Meow Wolf  Denver Convergence Station\, Denver
ORGANIZER;CN=:mailto:events@events.org
SEQUENCE:0
SUMMARY:Wheelchair Sports Camp: Album Release Presented by Indie 102.3
UID:dfd6cb77-96f1-4f3a-a526-dcd34aea6c5a
URL:https://events.org/e/Wheelchair-Sports-Camp-Album-Release-Presente/ESC
 2DCUG
BEGIN:VALARM
ACTION:DISPLAY
SUMMARY:Reminder
TRIGGER:-P1D
END:VALARM
END:VEVENT
END:VCALENDAR
