BEGIN:VCALENDAR
METHOD:REQUEST
PRODID:-//events.orgNONSGML ical.net 4.0//EN
VERSION:2.0
BEGIN:VEVENT
DTEND;VALUE=DATE:20260704
DTSTAMP:20260421T104532Z
DTSTART;VALUE=DATE:20260704
LOCATION:Coors Field\, Denver
ORGANIZER;CN=:mailto:events@events.org
SEQUENCE:0
SUMMARY:Colorado Rockies vs. San Francisco Giants
UID:ff017783-b03f-4ab0-b72e-4f95fa473981
URL:https://events.org/e/Colorado-Rockies-vs-San-Francisco-Giants/PGQTOSQW
BEGIN:VALARM
ACTION:DISPLAY
SUMMARY:Reminder
TRIGGER:-P1D
END:VALARM
END:VEVENT
END:VCALENDAR
