BEGIN:VCALENDAR
METHOD:REQUEST
PRODID:-//events.orgNONSGML ical.net 4.0//EN
VERSION:2.0
BEGIN:VEVENT
DTEND;VALUE=DATE:20260710
DTSTAMP:20260421T131427Z
DTSTART;VALUE=DATE:20260710
LOCATION:The Aretha Franklin Amphitheatre\, Detroit
ORGANIZER;CN=:mailto:events@events.org
SEQUENCE:0
SUMMARY:G Herbo
UID:27dc7758-c518-4064-addc-afffdf14f1ab
URL:https://events.org/e/G-Herbo/G5OLBFC4
BEGIN:VALARM
ACTION:DISPLAY
SUMMARY:Reminder
TRIGGER:-P1D
END:VALARM
END:VEVENT
END:VCALENDAR
