BEGIN:VCALENDAR
METHOD:REQUEST
PRODID:-//events.orgNONSGML ical.net 4.0//EN
VERSION:2.0
BEGIN:VEVENT
DTEND;VALUE=DATE:20260428
DTSTAMP:20260424T081609Z
DTSTART;VALUE=DATE:20260428
LOCATION:Winter Garden Theatre\, New York
ORGANIZER;CN=:mailto:events@events.org
SEQUENCE:0
SUMMARY:Arthur Miller's Death of a Salesman
UID:3fd789d1-ae54-4ddb-a12e-66d43cb8d234
URL:https://events.org/e/Arthur-Millers-Death-of-a-Salesman/2O4CUPKI
BEGIN:VALARM
ACTION:DISPLAY
SUMMARY:Reminder
TRIGGER:-P1D
END:VALARM
END:VEVENT
END:VCALENDAR
