BEGIN:VCALENDAR
METHOD:REQUEST
PRODID:-//events.orgNONSGML ical.net 4.0//EN
VERSION:2.0
BEGIN:VEVENT
DTEND;VALUE=DATE:20261007
DTSTAMP:20260422T091806Z
DTSTART;VALUE=DATE:20261007
LOCATION:Talking Stick Resort Amphitheatre\, Phoenix
ORGANIZER;CN=:mailto:events@events.org
SEQUENCE:0
SUMMARY:TLC & Salt-N-Pepa with En Vogue - IT'S ICONIC
UID:dcb30341-c449-4030-9ead-24807caa4f62
URL:https://events.org/e/TLC-Salt-N-Pepa-with-En-Vogue---ITS-ICONIC/C4T3PL
 3S
BEGIN:VALARM
ACTION:DISPLAY
SUMMARY:Reminder
TRIGGER:-P1D
END:VALARM
END:VEVENT
END:VCALENDAR
