BEGIN:VCALENDAR
METHOD:REQUEST
PRODID:-//events.orgNONSGML ical.net 4.0//EN
VERSION:2.0
BEGIN:VEVENT
DTEND;VALUE=DATE:20260807
DTSTAMP:20260422T090042Z
DTSTART;VALUE=DATE:20260807
LOCATION:Uptown Theater Minneapolis\, Minneapolis
ORGANIZER;CN=:mailto:events@events.org
SEQUENCE:0
SUMMARY:DJ Pauly D - 18+
UID:13d97662-1902-475e-95d8-24a1623f381a
URL:https://events.org/e/DJ-Pauly-D---18/E4MQMKYU
BEGIN:VALARM
ACTION:DISPLAY
SUMMARY:Reminder
TRIGGER:-P1D
END:VALARM
END:VEVENT
END:VCALENDAR
