BEGIN:VCALENDAR
METHOD:REQUEST
PRODID:-//events.orgNONSGML ical.net 4.0//EN
VERSION:2.0
BEGIN:VEVENT
DTEND;VALUE=DATE:20260420
DTSTAMP:20260421T082346Z
DTSTART;VALUE=DATE:20260420
LOCATION:Ethel Barrymore Theatre\, New York
ORGANIZER;CN=:mailto:events@events.org
SEQUENCE:0
SUMMARY:Joe Turner's Come and Gone
UID:405c38db-ed8a-4060-a73a-de2bc48e7d10
URL:https://events.org/e/Joe-Turners-Come-and-Gone/R9557MF6
BEGIN:VALARM
ACTION:DISPLAY
SUMMARY:Reminder
TRIGGER:-P1D
END:VALARM
END:VEVENT
END:VCALENDAR
