BEGIN:VCALENDAR
METHOD:REQUEST
PRODID:-//events.orgNONSGML ical.net 4.0//EN
VERSION:2.0
BEGIN:VEVENT
DTEND;VALUE=DATE:20261106
DTSTAMP:20260421T103839Z
DTSTART;VALUE=DATE:20261106
LOCATION:House of Blues Dallas \, Dallas
ORGANIZER;CN=:mailto:events@events.org
SEQUENCE:0
SUMMARY:UB40 - The Unstoppable Tour
UID:16ef7f10-33cb-45d6-9cf9-7ab1e61697af
URL:https://events.org/e/UB40---The-Unstoppable-Tour/QXDMCR2H
BEGIN:VALARM
ACTION:DISPLAY
SUMMARY:Reminder
TRIGGER:-P1D
END:VALARM
END:VEVENT
END:VCALENDAR
