BEGIN:VCALENDAR
METHOD:REQUEST
PRODID:-//events.orgNONSGML ical.net 4.0//EN
VERSION:2.0
BEGIN:VEVENT
DTEND;VALUE=DATE:20260425
DTSTAMP:20260421T094931Z
DTSTART;VALUE=DATE:20260425
LOCATION:Kingston Mines - Chicago Blues Center\, Chicago
ORGANIZER;CN=:mailto:events@events.org
SEQUENCE:0
SUMMARY:Rico McFarland Blues Band/Nora Jean Bruso Blues Band
UID:ed1365f1-410c-4c37-ba26-40a346a93894
URL:https://events.org/e/Rico-McFarland-Blues-BandNora-Jean-Bruso-Blue/IQ6
 4J6IJ
BEGIN:VALARM
ACTION:DISPLAY
SUMMARY:Reminder
TRIGGER:-P1D
END:VALARM
END:VEVENT
END:VCALENDAR
