BEGIN:VCALENDAR
METHOD:REQUEST
PRODID:-//events.orgNONSGML ical.net 4.0//EN
VERSION:2.0
BEGIN:VEVENT
DTEND;VALUE=DATE:20260527
DTSTAMP:20260419T165143Z
DTSTART;VALUE=DATE:20260527
LOCATION:Center Stage Theater\, Atlanta
ORGANIZER;CN=:mailto:events@events.org
SEQUENCE:0
SUMMARY:Derrick Stroup
UID:36ebdc35-1c8c-4226-8c92-4a20e41a1ea8
URL:https://events.org/e/Derrick-Stroup/X6O9R58F
BEGIN:VALARM
ACTION:DISPLAY
SUMMARY:Reminder
TRIGGER:-P1D
END:VALARM
END:VEVENT
END:VCALENDAR
