BEGIN:VCALENDAR
METHOD:REQUEST
PRODID:-//events.orgNONSGML ical.net 4.0//EN
VERSION:2.0
BEGIN:VEVENT
DTEND;VALUE=DATE:20260521
DTSTAMP:20260422T085914Z
DTSTART;VALUE=DATE:20260521
LOCATION:The Fonda Theatre\, Los Angeles
ORGANIZER;CN=:mailto:events@events.org
SEQUENCE:0
SUMMARY:Josiah & the Bonnevilles
UID:0ecaa2fc-f162-4b3d-81e2-59782387023a
URL:https://events.org/e/Josiah-the-Bonnevilles/I6YMAVIH
BEGIN:VALARM
ACTION:DISPLAY
SUMMARY:Reminder
TRIGGER:-P1D
END:VALARM
END:VEVENT
END:VCALENDAR
