BEGIN:VCALENDAR
METHOD:REQUEST
PRODID:-//events.orgNONSGML ical.net 4.0//EN
VERSION:2.0
BEGIN:VEVENT
DTEND;VALUE=DATE:20260701
DTSTAMP:20260422T091420Z
DTSTART;VALUE=DATE:20260701
LOCATION:Punch Line Comedy Club - San Francisco\, San Francisco
ORGANIZER;CN=:mailto:events@events.org
SEQUENCE:0
SUMMARY:SF Comedy Kings: An Old School Blowout
UID:94f62be7-2407-4fe7-a01d-f27f5cadc4a5
URL:https://events.org/e/SF-Comedy-Kings-An-Old-School-Blowout/YXBQ5RBT
BEGIN:VALARM
ACTION:DISPLAY
SUMMARY:Reminder
TRIGGER:-P1D
END:VALARM
END:VEVENT
END:VCALENDAR
