BEGIN:VCALENDAR
METHOD:REQUEST
PRODID:-//events.orgNONSGML ical.net 4.0//EN
VERSION:2.0
BEGIN:VEVENT
DTEND;VALUE=DATE:20260420
DTSTAMP:20260421T082524Z
DTSTART;VALUE=DATE:20260420
LOCATION:Theater 555\, New York
ORGANIZER;CN=:mailto:events@events.org
SEQUENCE:0
SUMMARY:Blood/Love: A Vampire Pop Opera
UID:4476738d-d015-4217-9307-7a3ee7e65729
URL:https://events.org/e/BloodLove-A-Vampire-Pop-Opera/6J6M6HPG
BEGIN:VALARM
ACTION:DISPLAY
SUMMARY:Reminder
TRIGGER:-P1D
END:VALARM
END:VEVENT
END:VCALENDAR
