BEGIN:VCALENDAR
METHOD:REQUEST
PRODID:-//events.orgNONSGML ical.net 4.0//EN
VERSION:2.0
BEGIN:VEVENT
DTEND;VALUE=DATE:20260619
DTSTAMP:20260421T103839Z
DTSTART;VALUE=DATE:20260619
LOCATION:Coors Field\, Denver
ORGANIZER;CN=:mailto:events@events.org
SEQUENCE:0
SUMMARY:Colorado Rockies vs. Pittsburgh Pirates
UID:8a0a687a-821d-48d3-a17c-561311dbeebb
URL:https://events.org/e/Colorado-Rockies-vs-Pittsburgh-Pirates/PIAH976Q
BEGIN:VALARM
ACTION:DISPLAY
SUMMARY:Reminder
TRIGGER:-P1D
END:VALARM
END:VEVENT
END:VCALENDAR
