BEGIN:VCALENDAR
METHOD:REQUEST
PRODID:-//events.orgNONSGML ical.net 4.0//EN
VERSION:2.0
BEGIN:VEVENT
DTEND;VALUE=DATE:20260427
DTSTAMP:20260424T081036Z
DTSTART;VALUE=DATE:20260427
LOCATION:Lucinda's\, New York
ORGANIZER;CN=:mailto:events@events.org
SEQUENCE:0
SUMMARY:Dave Doobinin\, Kelley Swindall
UID:ef9fb353-1bb7-48dd-8e8e-ffd4fa97ecfa
URL:https://events.org/e/Dave-Doobinin-Kelley-Swindall/WS2689V9
BEGIN:VALARM
ACTION:DISPLAY
SUMMARY:Reminder
TRIGGER:-P1D
END:VALARM
END:VEVENT
END:VCALENDAR
