BEGIN:VCALENDAR
METHOD:REQUEST
PRODID:-//events.orgNONSGML ical.net 4.0//EN
VERSION:2.0
BEGIN:VEVENT
DTEND;VALUE=DATE:20261010
DTSTAMP:20260422T092141Z
DTSTART;VALUE=DATE:20261010
LOCATION:Talking Stick Resort Amphitheatre\, Phoenix
ORGANIZER;CN=:mailto:events@events.org
SEQUENCE:0
SUMMARY:Thomas Rhett: The Soundtrack to Life Tour
UID:0f96b4e7-ba1e-413c-9047-9c1fcf9dc2be
URL:https://events.org/e/Thomas-Rhett-The-Soundtrack-to-Life-Tour/Q53CVY3F
BEGIN:VALARM
ACTION:DISPLAY
SUMMARY:Reminder
TRIGGER:-P1D
END:VALARM
END:VEVENT
END:VCALENDAR
