BEGIN:VCALENDAR
METHOD:REQUEST
PRODID:-//events.orgNONSGML ical.net 4.0//EN
VERSION:2.0
BEGIN:VEVENT
DTEND;VALUE=DATE:20260522
DTSTAMP:20260422T090809Z
DTSTART;VALUE=DATE:20260522
LOCATION:Orchestra Hall - IL\, Chicago
ORGANIZER;CN=:mailto:events@events.org
SEQUENCE:0
SUMMARY:Pekka Kuusisto: Time Shifting
UID:f39e4852-e248-475f-a278-f117247358ad
URL:https://events.org/e/Pekka-Kuusisto-Time-Shifting/K2NL59K8
BEGIN:VALARM
ACTION:DISPLAY
SUMMARY:Reminder
TRIGGER:-P1D
END:VALARM
END:VEVENT
END:VCALENDAR
