BEGIN:VCALENDAR
METHOD:REQUEST
PRODID:-//events.orgNONSGML ical.net 4.0//EN
VERSION:2.0
BEGIN:VEVENT
DTEND;VALUE=DATE:20261013
DTSTAMP:20260424T092209Z
DTSTART;VALUE=DATE:20261013
LOCATION:TD Garden\, Boston
ORGANIZER;CN=:mailto:events@events.org
SEQUENCE:0
SUMMARY:Johnny Blue Skies & The Dark Clouds - Mutiny For The Masses 2026 T
 our
UID:dbf74909-3588-499e-97e0-6beedee389cd
URL:https://events.org/e/Johnny-Blue-Skies-The-Dark-Clouds---Mutiny-Fo/6FW
 SBTMO
BEGIN:VALARM
ACTION:DISPLAY
SUMMARY:Reminder
TRIGGER:-P1D
END:VALARM
END:VEVENT
END:VCALENDAR
