BEGIN:VCALENDAR
METHOD:REQUEST
PRODID:-//events.orgNONSGML ical.net 4.0//EN
VERSION:2.0
BEGIN:VEVENT
DTEND;VALUE=DATE:20260425
DTSTAMP:20260422T084001Z
DTSTART;VALUE=DATE:20260425
LOCATION:Irving Plaza Powered By Verizon 5G\, New York
ORGANIZER;CN=:mailto:events@events.org
SEQUENCE:0
SUMMARY:Starjunk95 (18+)
UID:a22b8f0e-701a-46ab-9672-e9929f8b9db6
URL:https://events.org/e/Starjunk95-18/G3QXXUNP
BEGIN:VALARM
ACTION:DISPLAY
SUMMARY:Reminder
TRIGGER:-P1D
END:VALARM
END:VEVENT
END:VCALENDAR
