BEGIN:VCALENDAR
METHOD:REQUEST
PRODID:-//events.orgNONSGML ical.net 4.0//EN
VERSION:2.0
BEGIN:VEVENT
DTEND;VALUE=DATE:20260427
DTSTAMP:20260424T081634Z
DTSTART;VALUE=DATE:20260427
LOCATION:Birdland Jazz Club\, New York
ORGANIZER;CN=:mailto:events@events.org
SEQUENCE:0
SUMMARY:Natalie Douglas in “Different Drum…The Songs of Linda Rondstadt”
UID:85088aa5-5754-4fb0-87ad-e8aff138905a
URL:https://events.org/e/Natalie-Douglas-in-Different-DrumThe-Songs-of/SVI
 OJ3WG
BEGIN:VALARM
ACTION:DISPLAY
SUMMARY:Reminder
TRIGGER:-P1D
END:VALARM
END:VEVENT
END:VCALENDAR
