BEGIN:VCALENDAR
METHOD:REQUEST
PRODID:-//events.orgNONSGML ical.net 4.0//EN
VERSION:2.0
BEGIN:VEVENT
DTEND;VALUE=DATE:20260521
DTSTAMP:20260422T084824Z
DTSTART;VALUE=DATE:20260521
LOCATION:Crypto.com Arena\, Los Angeles
ORGANIZER;CN=:mailto:events@events.org
SEQUENCE:0
SUMMARY:Romeo Santos w/ Prince Royce
UID:e5cfcc98-3547-4763-86e0-5e03d5eb5c61
URL:https://events.org/e/Romeo-Santos-w-Prince-Royce/73MBSRHQ
BEGIN:VALARM
ACTION:DISPLAY
SUMMARY:Reminder
TRIGGER:-P1D
END:VALARM
END:VEVENT
END:VCALENDAR
