BEGIN:VCALENDAR
METHOD:REQUEST
PRODID:-//events.orgNONSGML ical.net 4.0//EN
VERSION:2.0
BEGIN:VEVENT
DTEND;VALUE=DATE:20260503
DTSTAMP:20260423T171848Z
DTSTART;VALUE=DATE:20260503
LOCATION:Neumos\, Seattle
ORGANIZER;CN=:mailto:events@events.org
SEQUENCE:0
SUMMARY:Yebba - All Ages to Enter\, 21 & Over to Drink
UID:f5b2b198-003f-428b-8430-82e900737d72
URL:https://events.org/e/Yebba---All-Ages-to-Enter-21-Over-to-Drink/9DXQLM
 Y4
BEGIN:VALARM
ACTION:DISPLAY
SUMMARY:Reminder
TRIGGER:-P1D
END:VALARM
END:VEVENT
END:VCALENDAR
