BEGIN:VCALENDAR
METHOD:REQUEST
PRODID:-//events.orgNONSGML ical.net 4.0//EN
VERSION:2.0
BEGIN:VEVENT
DTEND;VALUE=DATE:20260428
DTSTAMP:20260424T081006Z
DTSTART;VALUE=DATE:20260428
LOCATION:Radio City Music Hall Tour Experience\, New York
ORGANIZER;CN=:mailto:events@events.org
SEQUENCE:0
SUMMARY:Radio City Music Hall Tour Experience
UID:7b09907e-165c-4810-a2f0-a3a3ab77c374
URL:https://events.org/e/Radio-City-Music-Hall-Tour-Experience/Y2D78IA3
BEGIN:VALARM
ACTION:DISPLAY
SUMMARY:Reminder
TRIGGER:-P1D
END:VALARM
END:VEVENT
END:VCALENDAR
