BEGIN:VCALENDAR
METHOD:REQUEST
PRODID:-//events.orgNONSGML ical.net 4.0//EN
VERSION:2.0
BEGIN:VEVENT
DTEND;VALUE=DATE:20260521
DTSTAMP:20260422T090310Z
DTSTART;VALUE=DATE:20260521
LOCATION:Park West\, Chicago
ORGANIZER;CN=:mailto:events@events.org
SEQUENCE:0
SUMMARY:Concrete Boys
UID:e87ea454-7d3d-447c-9ddf-3ea9905e5aef
URL:https://events.org/e/Concrete-Boys/VHR4VTN2
BEGIN:VALARM
ACTION:DISPLAY
SUMMARY:Reminder
TRIGGER:-P1D
END:VALARM
END:VEVENT
END:VCALENDAR
