BEGIN:VCALENDAR
METHOD:REQUEST
PRODID:-//events.orgNONSGML ical.net 4.0//EN
VERSION:2.0
BEGIN:VEVENT
DTEND;VALUE=DATE:20260614
DTSTAMP:20260423T133811Z
DTSTART;VALUE=DATE:20260614
LOCATION:Guthrie Theater - Wurtele Thrust Stage\, Minneapolis
ORGANIZER;CN=:mailto:events@events.org
SEQUENCE:0
SUMMARY:Little Women
UID:47391bbb-171f-41f2-9843-98a6a225cf8c
URL:https://events.org/e/Little-Women/9NETY3IS
BEGIN:VALARM
ACTION:DISPLAY
SUMMARY:Reminder
TRIGGER:-P1D
END:VALARM
END:VEVENT
END:VCALENDAR
