BEGIN:VCALENDAR
METHOD:REQUEST
PRODID:-//events.orgNONSGML ical.net 4.0//EN
VERSION:2.0
BEGIN:VEVENT
DTEND;VALUE=DATE:20260621
DTSTAMP:20260421T145055Z
DTSTART;VALUE=DATE:20260621
LOCATION:Marquis\, Denver
ORGANIZER;CN=:mailto:events@events.org
SEQUENCE:0
SUMMARY:Moon Walker's Wasteland Country Tour
UID:c098a60d-98e6-4f71-b900-7b5168ae10f6
URL:https://events.org/e/Moon-Walkers-Wasteland-Country-Tour/9DMKL3K7
BEGIN:VALARM
ACTION:DISPLAY
SUMMARY:Reminder
TRIGGER:-P1D
END:VALARM
END:VEVENT
END:VCALENDAR
