BEGIN:VCALENDAR
METHOD:REQUEST
PRODID:-//events.orgNONSGML ical.net 4.0//EN
VERSION:2.0
BEGIN:VEVENT
DTEND;VALUE=DATE:20260829
DTSTAMP:20260421T082001Z
DTSTART;VALUE=DATE:20260829
LOCATION:MilkBoy Philadelphia\, Philadelphia
ORGANIZER;CN=:mailto:events@events.org
SEQUENCE:0
SUMMARY:Jim Stephens' Full Tilt Boogie - Ages 21+
UID:634ba3ff-c1fd-4d59-9be6-c76f2a1a7ad9
URL:https://events.org/e/Jim-Stephens-Full-Tilt-Boogie---Ages-21/WHR8O3K6
BEGIN:VALARM
ACTION:DISPLAY
SUMMARY:Reminder
TRIGGER:-P1D
END:VALARM
END:VEVENT
END:VCALENDAR
