BEGIN:VCALENDAR
METHOD:REQUEST
PRODID:-//events.orgNONSGML ical.net 4.0//EN
VERSION:2.0
BEGIN:VEVENT
DTEND;VALUE=DATE:20260524
DTSTAMP:20260419T143118Z
DTSTART;VALUE=DATE:20260524
LOCATION:TD Garden\, Boston
ORGANIZER;CN=:mailto:events@events.org
SEQUENCE:0
SUMMARY:SPRINGSTEEN & E STREET Land of Hope & Dreams American Tour
UID:7262c2f1-ad4b-47b0-9983-5cd96de92a59
URL:https://events.org/e/SPRINGSTEEN-E-STREET-Land-of-Hope-Dreams-Amer/APK
 J2RL8
BEGIN:VALARM
ACTION:DISPLAY
SUMMARY:Reminder
TRIGGER:-P1D
END:VALARM
END:VEVENT
END:VCALENDAR
