BEGIN:VCALENDAR
METHOD:REQUEST
PRODID:-//events.orgNONSGML ical.net 4.0//EN
VERSION:2.0
BEGIN:VEVENT
DTEND;VALUE=DATE:20260605
DTSTAMP:20260422T084059Z
DTSTART;VALUE=DATE:20260605
LOCATION:Brooklyn Bowl Philadelphia\, Philadelphia
ORGANIZER;CN=:mailto:events@events.org
SEQUENCE:0
SUMMARY:Baile De Favela (21+)
UID:0dee3f35-361e-4277-8f98-74d9cfce48e1
URL:https://events.org/e/Baile-De-Favela-21/LFFAUPFR
BEGIN:VALARM
ACTION:DISPLAY
SUMMARY:Reminder
TRIGGER:-P1D
END:VALARM
END:VEVENT
END:VCALENDAR
