BEGIN:VCALENDAR
METHOD:REQUEST
PRODID:-//events.orgNONSGML ical.net 4.0//EN
VERSION:2.0
BEGIN:VEVENT
DTEND;VALUE=DATE:20260507
DTSTAMP:20260419T184502Z
DTSTART;VALUE=DATE:20260507
LOCATION:El Cid\, Los Angeles
ORGANIZER;CN=:mailto:events@events.org
SEQUENCE:0
SUMMARY:LIVE at El Cid: Aiden Kroll\, Magnus Ferrell\, Keoni Usi & Special
  Guest!
UID:8b93c8c7-2f22-4c4c-ae4a-656b588b00c8
URL:https://events.org/e/LIVE-at-El-Cid-Aiden-Kroll-Magnus-Ferrell-Keo/Y5K
 EXPK9
BEGIN:VALARM
ACTION:DISPLAY
SUMMARY:Reminder
TRIGGER:-P1D
END:VALARM
END:VEVENT
END:VCALENDAR
