BEGIN:VCALENDAR
METHOD:REQUEST
PRODID:-//events.orgNONSGML ical.net 4.0//EN
VERSION:2.0
BEGIN:VEVENT
DTEND;VALUE=DATE:20260530
DTSTAMP:20260423T132908Z
DTSTART;VALUE=DATE:20260530
LOCATION:House of Blues San Diego\, San Diego
ORGANIZER;CN=:mailto:events@events.org
SEQUENCE:0
SUMMARY:Natalie Nunn: "Already Rich" Tour
UID:bf5b97c6-bf5d-4ed5-9ceb-2470218e409f
URL:https://events.org/e/Natalie-Nunn-Already-Rich-Tour/EEBVUP74
BEGIN:VALARM
ACTION:DISPLAY
SUMMARY:Reminder
TRIGGER:-P1D
END:VALARM
END:VEVENT
END:VCALENDAR
