BEGIN:VCALENDAR
METHOD:REQUEST
PRODID:-//events.orgNONSGML ical.net 4.0//EN
VERSION:2.0
BEGIN:VEVENT
DTEND;VALUE=DATE:20260521
DTSTAMP:20260422T084911Z
DTSTART;VALUE=DATE:20260521
LOCATION:The Regent Theater\, Los Angeles
ORGANIZER;CN=:mailto:events@events.org
SEQUENCE:0
SUMMARY:Wild Nothing w/Special Guest: Lunar Vacation
UID:aae63127-05aa-403f-bd9b-46dadcd73697
URL:https://events.org/e/Wild-Nothing-wSpecial-Guest-Lunar-Vacation/2YRFLF
 QI
BEGIN:VALARM
ACTION:DISPLAY
SUMMARY:Reminder
TRIGGER:-P1D
END:VALARM
END:VEVENT
END:VCALENDAR
