BEGIN:VCALENDAR
METHOD:REQUEST
PRODID:-//events.orgNONSGML ical.net 4.0//EN
VERSION:2.0
BEGIN:VEVENT
DTEND;VALUE=DATE:20260425
DTSTAMP:20260422T090801Z
DTSTART;VALUE=DATE:20260425
LOCATION:Nederlander Theatre\, New York
ORGANIZER;CN=:mailto:events@events.org
SEQUENCE:0
SUMMARY:Schmigadoon!
UID:03261f6f-4883-4c2b-9e64-a9a0abf8ca4a
URL:https://events.org/e/Schmigadoon/73DU8XPI
BEGIN:VALARM
ACTION:DISPLAY
SUMMARY:Reminder
TRIGGER:-P1D
END:VALARM
END:VEVENT
END:VCALENDAR
