BEGIN:VCALENDAR
METHOD:REQUEST
PRODID:-//events.orgNONSGML ical.net 4.0//EN
VERSION:2.0
BEGIN:VEVENT
DTEND;VALUE=DATE:20260605
DTSTAMP:20260424T092220Z
DTSTART;VALUE=DATE:20260605
LOCATION:Walter WhereHouse\, Phoenix
ORGANIZER;CN=:mailto:events@events.org
SEQUENCE:0
SUMMARY:idgaFNK w Taiki Nulight (21+)
UID:498e269e-e542-46a5-b9ed-7e8e104a9c82
URL:https://events.org/e/idgaFNK-w-Taiki-Nulight-21/PWVNHCCH
BEGIN:VALARM
ACTION:DISPLAY
SUMMARY:Reminder
TRIGGER:-P1D
END:VALARM
END:VEVENT
END:VCALENDAR
