BEGIN:VCALENDAR
METHOD:REQUEST
PRODID:-//events.orgNONSGML ical.net 4.0//EN
VERSION:2.0
BEGIN:VEVENT
DTEND;VALUE=DATE:20260710
DTSTAMP:20260421T145055Z
DTSTART;VALUE=DATE:20260710
LOCATION:PETCO Park\, San Diego
ORGANIZER;CN=:mailto:events@events.org
SEQUENCE:0
SUMMARY:San Diego Padres vs. Toronto Blue Jays
UID:43466902-3e83-49c3-9dbb-7c9132f8f494
URL:https://events.org/e/San-Diego-Padres-vs-Toronto-Blue-Jays/9ID8SMPS
BEGIN:VALARM
ACTION:DISPLAY
SUMMARY:Reminder
TRIGGER:-P1D
END:VALARM
END:VEVENT
END:VCALENDAR
