BEGIN:VCALENDAR
METHOD:REQUEST
PRODID:-//events.orgNONSGML ical.net 4.0//EN
VERSION:2.0
BEGIN:VEVENT
DTEND;VALUE=DATE:20260517
DTSTAMP:20260423T133703Z
DTSTART;VALUE=DATE:20260517
LOCATION:La Rumba\, Denver
ORGANIZER;CN=:mailto:events@events.org
SEQUENCE:0
SUMMARY:SALSA & BACHATA SUNDAYS
UID:caa0db86-d8dd-472a-a353-30af3c87a377
URL:https://events.org/e/SALSA-BACHATA-SUNDAYS/TU9J27A7
BEGIN:VALARM
ACTION:DISPLAY
SUMMARY:Reminder
TRIGGER:-P1D
END:VALARM
END:VEVENT
END:VCALENDAR
