BEGIN:VCALENDAR
METHOD:REQUEST
PRODID:-//events.orgNONSGML ical.net 4.0//EN
VERSION:2.0
BEGIN:VEVENT
DTEND;VALUE=DATE:20260530
DTSTAMP:20260419T165801Z
DTSTART;VALUE=DATE:20260530
LOCATION:Paramount Theatre\, Seattle
ORGANIZER;CN=:mailto:events@events.org
SEQUENCE:0
SUMMARY:Blue Man Group: North American Tour
UID:060f6f72-2823-410e-9537-b85722387f38
URL:https://events.org/e/Blue-Man-Group-North-American-Tour/O8ETUBP7
BEGIN:VALARM
ACTION:DISPLAY
SUMMARY:Reminder
TRIGGER:-P1D
END:VALARM
END:VEVENT
END:VCALENDAR
