BEGIN:VCALENDAR
METHOD:REQUEST
PRODID:-//events.orgNONSGML ical.net 4.0//EN
VERSION:2.0
BEGIN:VEVENT
DTEND;VALUE=DATE:20260516
DTSTAMP:20260423T171925Z
DTSTART;VALUE=DATE:20260516
LOCATION:The Liacouras Center\, Philadelphia
ORGANIZER;CN=:mailto:events@events.org
SEQUENCE:0
SUMMARY:Method Man and Redman
UID:6f040196-1462-49f1-b868-15421ca28434
URL:https://events.org/e/Method-Man-and-Redman/A8V4IQLO
BEGIN:VALARM
ACTION:DISPLAY
SUMMARY:Reminder
TRIGGER:-P1D
END:VALARM
END:VEVENT
END:VCALENDAR
