BEGIN:VCALENDAR
METHOD:REQUEST
PRODID:-//events.orgNONSGML ical.net 4.0//EN
VERSION:2.0
BEGIN:VEVENT
DTEND;VALUE=DATE:20260508
DTSTAMP:20260422T091051Z
DTSTART;VALUE=DATE:20260508
LOCATION:Universoul Circus - Atlanta - Old Turner Field Grey Lot\, Atlanta
ORGANIZER;CN=:mailto:events@events.org
SEQUENCE:0
SUMMARY:UniverSoul Circus
UID:5e01734d-94f3-4dd8-b595-8823650ad865
URL:https://events.org/e/UniverSoul-Circus/8XH7VHKA
BEGIN:VALARM
ACTION:DISPLAY
SUMMARY:Reminder
TRIGGER:-P1D
END:VALARM
END:VEVENT
END:VCALENDAR
