BEGIN:VCALENDAR
METHOD:REQUEST
PRODID:-//events.orgNONSGML ical.net 4.0//EN
VERSION:2.0
BEGIN:VEVENT
DTEND;VALUE=DATE:20260623
DTSTAMP:20260422T091051Z
DTSTART;VALUE=DATE:20260623
LOCATION:The Crocodile\, Seattle
ORGANIZER;CN=:mailto:events@events.org
SEQUENCE:0
SUMMARY:Ibrahim Maalouf
UID:8ca6d6f1-9ee7-4436-af65-6733011666a4
URL:https://events.org/e/Ibrahim-Maalouf/JNPCGRN8
BEGIN:VALARM
ACTION:DISPLAY
SUMMARY:Reminder
TRIGGER:-P1D
END:VALARM
END:VEVENT
END:VCALENDAR
