BEGIN:VCALENDAR
METHOD:REQUEST
PRODID:-//events.orgNONSGML ical.net 4.0//EN
VERSION:2.0
BEGIN:VEVENT
DTEND;VALUE=DATE:20260605
DTSTAMP:20260422T084038Z
DTSTART;VALUE=DATE:20260605
LOCATION:The Grand (Boston)\, Boston
ORGANIZER;CN=:mailto:events@events.org
SEQUENCE:0
SUMMARY:Twinsick
UID:08b6de5e-10ed-4ab7-b263-d9e0f2fb42eb
URL:https://events.org/e/Twinsick/GX9IPJJS
BEGIN:VALARM
ACTION:DISPLAY
SUMMARY:Reminder
TRIGGER:-P1D
END:VALARM
END:VEVENT
END:VCALENDAR
