BEGIN:VCALENDAR
METHOD:REQUEST
PRODID:-//events.orgNONSGML ical.net 4.0//EN
VERSION:2.0
BEGIN:VEVENT
DTEND;VALUE=DATE:20260429
DTSTAMP:20260424T080847Z
DTSTART;VALUE=DATE:20260429
LOCATION:Broadhurst Theatre \, New York
ORGANIZER;CN=:mailto:events@events.org
SEQUENCE:0
SUMMARY:CATS: The Jellicle Ball
UID:25dea724-8873-4adb-ac9b-691db52e346a
URL:https://events.org/e/CATS-The-Jellicle-Ball/HT9WI7RK
BEGIN:VALARM
ACTION:DISPLAY
SUMMARY:Reminder
TRIGGER:-P1D
END:VALARM
END:VEVENT
END:VCALENDAR
