BEGIN:VCALENDAR
METHOD:REQUEST
PRODID:-//events.orgNONSGML ical.net 4.0//EN
VERSION:2.0
BEGIN:VEVENT
DTEND;VALUE=DATE:20260506
DTSTAMP:20260421T095902Z
DTSTART;VALUE=DATE:20260506
LOCATION:Palace Theatre\, Los Angeles
ORGANIZER;CN=:mailto:events@events.org
SEQUENCE:0
SUMMARY:Netflix Is A Joke Presents: Jonathan Van Ness & Friends
UID:263e9772-71e4-4f36-8fe9-f9f8f1185e14
URL:https://events.org/e/Netflix-Is-A-Joke-Presents-Jonathan-Van-Ness/WLJI
 8M9N
BEGIN:VALARM
ACTION:DISPLAY
SUMMARY:Reminder
TRIGGER:-P1D
END:VALARM
END:VEVENT
END:VCALENDAR
