BEGIN:VCALENDAR
METHOD:REQUEST
PRODID:-//events.orgNONSGML ical.net 4.0//EN
VERSION:2.0
BEGIN:VEVENT
DTEND;VALUE=DATE:20260628
DTSTAMP:20260421T143346Z
DTSTART;VALUE=DATE:20260628
LOCATION:La Rumba\, Denver
ORGANIZER;CN=:mailto:events@events.org
SEQUENCE:0
SUMMARY:SALSA & BACHATA SUNDAYS
UID:d3c79e26-579f-4c55-8899-a2cd2d35f6cf
URL:https://events.org/e/SALSA-BACHATA-SUNDAYS/BATCMBRG
BEGIN:VALARM
ACTION:DISPLAY
SUMMARY:Reminder
TRIGGER:-P1D
END:VALARM
END:VEVENT
END:VCALENDAR
