BEGIN:VCALENDAR
METHOD:REQUEST
PRODID:-//events.orgNONSGML ical.net 4.0//EN
VERSION:2.0
BEGIN:VEVENT
DTEND;VALUE=DATE:20260503
DTSTAMP:20260421T095244Z
DTSTART;VALUE=DATE:20260503
LOCATION:Neptune Theatre\, Seattle
ORGANIZER;CN=:mailto:events@events.org
SEQUENCE:0
SUMMARY:The Dear Hunter - The Road to Sunya Tour 2026
UID:0922107e-9371-4600-9078-c9e8091676d1
URL:https://events.org/e/The-Dear-Hunter---The-Road-to-Sunya-Tour-2026/INK
 M5LG7
BEGIN:VALARM
ACTION:DISPLAY
SUMMARY:Reminder
TRIGGER:-P1D
END:VALARM
END:VEVENT
END:VCALENDAR
