BEGIN:VCALENDAR
METHOD:REQUEST
PRODID:-//events.orgNONSGML ical.net 4.0//EN
VERSION:2.0
BEGIN:VEVENT
DTEND;VALUE=DATE:20260912
DTSTAMP:20260420T132950Z
DTSTART;VALUE=DATE:20260912
LOCATION:Gerald Ford Stadium\, Dallas
ORGANIZER;CN=:mailto:events@events.org
SEQUENCE:0
SUMMARY:SMU Mustangs Football vs. UC Davis Aggies Football
UID:871e042c-0cbc-44f3-a24a-c79de968ddab
URL:https://events.org/e/SMU-Mustangs-Football-vs-UC-Davis-Aggies-Football
 /F6XJKD6T
BEGIN:VALARM
ACTION:DISPLAY
SUMMARY:Reminder
TRIGGER:-P1D
END:VALARM
END:VEVENT
END:VCALENDAR
