BEGIN:VCALENDAR
METHOD:REQUEST
PRODID:-//events.orgNONSGML ical.net 4.0//EN
VERSION:2.0
BEGIN:VEVENT
DTEND;VALUE=DATE:20260509
DTSTAMP:20260422T091023Z
DTSTART;VALUE=DATE:20260509
LOCATION:NRG Park\, Houston
ORGANIZER;CN=:mailto:events@events.org
SEQUENCE:0
SUMMARY:Black on the Block Houston
UID:e93ec8d9-a761-4b17-a256-950e340fbb4c
URL:https://events.org/e/Black-on-the-Block-Houston/IOQ2LUKQ
BEGIN:VALARM
ACTION:DISPLAY
SUMMARY:Reminder
TRIGGER:-P1D
END:VALARM
END:VEVENT
END:VCALENDAR
